BEGIN:VCALENDAR
VERSION:2.0
PRODID:-//Eventin//Event Calendar//EN
CALSCALE:GREGORIAN
METHOD:PUBLISH
BEGIN:VEVENT
UID:66aadfe896da821497fd13df82d5374f@www.stmarysicsekk.com
SUMMARY:Career Awareness Programme
DESCRIPTION:
LOCATION:Online
DTSTAMP:20260420T014550Z
DTSTART:20240610T183000Z
DTEND:20260420T014550Z
END:VEVENT
END:VCALENDAR
