BEGIN:VCALENDAR
VERSION:2.0
PRODID:-//Eventin//Event Calendar//EN
CALSCALE:GREGORIAN
METHOD:PUBLISH
BEGIN:VEVENT
UID:1e97ec7fcd343ea4a048b29b5fe5723e@www.stmarysicsekk.com
SUMMARY:Investiture Ceremony
DESCRIPTION:
LOCATION:Online
DTSTAMP:20260420T014544Z
DTSTART:20240612T183000Z
DTEND:20260420T014544Z
END:VEVENT
END:VCALENDAR
