BEGIN:VCALENDAR
VERSION:2.0
PRODID:-//Eventin//Event Calendar//EN
CALSCALE:GREGORIAN
METHOD:PUBLISH
BEGIN:VEVENT
UID:0ed7982c2747f333c47df3cf2b4ac813@www.stmarysicsekk.com
SUMMARY:RANG TIRANGAA KE
DESCRIPTION:‘RANG TIRANGAA KE’ – Invoking feelings of patriotism and 
 love for our motherland India\, Marydalians are to dress up in hues of the 
 Tricolour.
LOCATION:Online
DTSTAMP:20260420T014148Z
DTSTART:20260420T014148Z
DTEND:20260420T014148Z
END:VEVENT
END:VCALENDAR
